BEGIN:VCALENDAR
VERSION:2.0
PRODID:-//www.wixams.org - ECPv6.15.12//NONSGML v1.0//EN
CALSCALE:GREGORIAN
METHOD:PUBLISH
X-ORIGINAL-URL:https://www.wixams.org
X-WR-CALDESC:Events for www.wixams.org
REFRESH-INTERVAL;VALUE=DURATION:PT1H
X-Robots-Tag:noindex
X-PUBLISHED-TTL:PT1H
BEGIN:VTIMEZONE
TZID:Europe/London
BEGIN:DAYLIGHT
TZOFFSETFROM:+0000
TZOFFSETTO:+0100
TZNAME:BST
DTSTART:20240331T010000
END:DAYLIGHT
BEGIN:STANDARD
TZOFFSETFROM:+0100
TZOFFSETTO:+0000
TZNAME:GMT
DTSTART:20241027T010000
END:STANDARD
BEGIN:DAYLIGHT
TZOFFSETFROM:+0000
TZOFFSETTO:+0100
TZNAME:BST
DTSTART:20250330T010000
END:DAYLIGHT
BEGIN:STANDARD
TZOFFSETFROM:+0100
TZOFFSETTO:+0000
TZNAME:GMT
DTSTART:20251026T010000
END:STANDARD
BEGIN:DAYLIGHT
TZOFFSETFROM:+0000
TZOFFSETTO:+0100
TZNAME:BST
DTSTART:20260329T010000
END:DAYLIGHT
BEGIN:STANDARD
TZOFFSETFROM:+0100
TZOFFSETTO:+0000
TZNAME:GMT
DTSTART:20261025T010000
END:STANDARD
END:VTIMEZONE
BEGIN:VEVENT
DTSTART;TZID=Europe/London:20250318T194500
DTEND;TZID=Europe/London:20250318T214500
DTSTAMP:20260424T140405
CREATED:20200717T134854Z
LAST-MODIFIED:20250312T111028Z
UID:3531-1742327100-1742334300@www.wixams.org
SUMMARY:Wixams Parish Council Meeting - March
DESCRIPTION:The Parish Council welcomes residents to attend any of their public meetings held\, details of these can be found on the Parish Council site. \nAgendas for each meeting will be available approximately one week before each meeting.
URL:https://www.wixams.org/event/wpc-meeting-mar-25/
LOCATION:Lakeview Village Hall\, 155-160 Brooklands Avenue\, Wixams\, MK42 6AB\, United Kingdom
ATTACH;FMTTYPE=image/png:https://www.wixams.org/wp-content/uploads/2019/06/Wixams-Parish-Council.png
ORGANIZER;CN="Wixams Town Council":MAILTO:clerk@wixams-pc.gov.uk
END:VEVENT
BEGIN:VEVENT
DTSTART;TZID=Europe/London:20250320T193000
DTEND;TZID=Europe/London:20250320T203000
DTSTAMP:20260424T140405
CREATED:20250312T134421Z
LAST-MODIFIED:20250312T134452Z
UID:3537-1742499000-1742502600@www.wixams.org
SUMMARY:Wilstead & Wixams Good Neighbours Scheme - AGM
DESCRIPTION:The Wilstead & Wixams Good Neighbours Scheme AGM will be held on Thursday 20th March at 7:30 pm. All are welcome to attend\, refreshments will be provided. \nVisit the page below if you would like to join the group or find out more. \nwww.wixams.org/wwgns
URL:https://www.wixams.org/event/wwgns-agm-2025/
LOCATION:Wilstead Village Hall\, Cotton End Road\, Wilstead\, MK45 3BX\, United Kingdom
ATTACH;FMTTYPE=image/jpeg:https://www.wixams.org/wp-content/uploads/2025/03/20250320-WWGNS-AGM-Poster.jpg
ORGANIZER;CN="Wilstead & Wixams Good Neighbours Scheme":MAILTO:Wilstead.Wixams.GNS@gmail.com
END:VEVENT
END:VCALENDAR