BEGIN:VCALENDAR
VERSION:2.0
PRODID:-//www.wixams.org - ECPv6.15.12//NONSGML v1.0//EN
CALSCALE:GREGORIAN
METHOD:PUBLISH
X-ORIGINAL-URL:https://www.wixams.org
X-WR-CALDESC:Events for www.wixams.org
REFRESH-INTERVAL;VALUE=DURATION:PT1H
X-Robots-Tag:noindex
X-PUBLISHED-TTL:PT1H
BEGIN:VTIMEZONE
TZID:Europe/London
BEGIN:DAYLIGHT
TZOFFSETFROM:+0000
TZOFFSETTO:+0100
TZNAME:BST
DTSTART:20240331T010000
END:DAYLIGHT
BEGIN:STANDARD
TZOFFSETFROM:+0100
TZOFFSETTO:+0000
TZNAME:GMT
DTSTART:20241027T010000
END:STANDARD
BEGIN:DAYLIGHT
TZOFFSETFROM:+0000
TZOFFSETTO:+0100
TZNAME:BST
DTSTART:20250330T010000
END:DAYLIGHT
BEGIN:STANDARD
TZOFFSETFROM:+0100
TZOFFSETTO:+0000
TZNAME:GMT
DTSTART:20251026T010000
END:STANDARD
BEGIN:DAYLIGHT
TZOFFSETFROM:+0000
TZOFFSETTO:+0100
TZNAME:BST
DTSTART:20260329T010000
END:DAYLIGHT
BEGIN:STANDARD
TZOFFSETFROM:+0100
TZOFFSETTO:+0000
TZNAME:GMT
DTSTART:20261025T010000
END:STANDARD
END:VTIMEZONE
BEGIN:VEVENT
DTSTART;TZID=Europe/London:20250411T130000
DTEND;TZID=Europe/London:20250411T160000
DTSTAMP:20260424T122135
CREATED:20250331T145833Z
LAST-MODIFIED:20250403T145700Z
UID:3547-1744376400-1744387200@www.wixams.org
SUMMARY:Free Mobile Skatepark Event
DESCRIPTION:There will be a free skatepark event on Friday 11th April for Wixams kids! This event has been organised through the Wixams Youth Working Group\, led by Bedford Borough Council. Funding is also available for a similar but bigger event in the school summer holidays too. Please speak to your teens and encourage them to take part! \n\n1-4 pm\, Friday 11th April\nLakeview Village Hall MUGA\nYear groups 6-11\nAll equipment provided or bring your own
URL:https://www.wixams.org/event/free-mobile-skatepark-event/
LOCATION:Lakeview Village Hall\, 155-160 Brooklands Avenue\, Wixams\, MK42 6AB\, United Kingdom
ATTACH;FMTTYPE=image/jpeg:https://www.wixams.org/wp-content/uploads/2025/04/20250411-Free-Mobile-Skatepark-Event-New.jpg
ORGANIZER;CN="Wixams Town Council":MAILTO:clerk@wixams-pc.gov.uk
END:VEVENT
BEGIN:VEVENT
DTSTART;TZID=Europe/London:20250412T140000
DTEND;TZID=Europe/London:20250412T153000
DTSTAMP:20260424T122135
CREATED:20250312T111332Z
LAST-MODIFIED:20250312T111332Z
UID:3533-1744466400-1744471800@www.wixams.org
SUMMARY:Wixams Community Group - AGM
DESCRIPTION:The Annual General Meeting of the Wixams Community Group will take place on Saturday 12th April at 2pm. It will be held in the Swan Room of Lakeview Village Hall.
URL:https://www.wixams.org/event/wcg-agm-2025/
LOCATION:Lakeview Village Hall\, 155-160 Brooklands Avenue\, Wixams\, MK42 6AB\, United Kingdom
ATTACH;FMTTYPE=image/jpeg:https://www.wixams.org/wp-content/uploads/2025/03/20250412-WCG-AGM-Poster.jpg
ORGANIZER;CN="Wixams Community Group":MAILTO:community@wixams.org
END:VEVENT
END:VCALENDAR