BEGIN:VCALENDAR
VERSION:2.0
PRODID:-//www.wixams.org - ECPv6.15.12//NONSGML v1.0//EN
CALSCALE:GREGORIAN
METHOD:PUBLISH
X-ORIGINAL-URL:https://www.wixams.org
X-WR-CALDESC:Events for www.wixams.org
REFRESH-INTERVAL;VALUE=DURATION:PT1H
X-Robots-Tag:noindex
X-PUBLISHED-TTL:PT1H
BEGIN:VTIMEZONE
TZID:Europe/London
BEGIN:DAYLIGHT
TZOFFSETFROM:+0000
TZOFFSETTO:+0100
TZNAME:BST
DTSTART:20240331T010000
END:DAYLIGHT
BEGIN:STANDARD
TZOFFSETFROM:+0100
TZOFFSETTO:+0000
TZNAME:GMT
DTSTART:20241027T010000
END:STANDARD
BEGIN:DAYLIGHT
TZOFFSETFROM:+0000
TZOFFSETTO:+0100
TZNAME:BST
DTSTART:20250330T010000
END:DAYLIGHT
BEGIN:STANDARD
TZOFFSETFROM:+0100
TZOFFSETTO:+0000
TZNAME:GMT
DTSTART:20251026T010000
END:STANDARD
BEGIN:DAYLIGHT
TZOFFSETFROM:+0000
TZOFFSETTO:+0100
TZNAME:BST
DTSTART:20260329T010000
END:DAYLIGHT
BEGIN:STANDARD
TZOFFSETFROM:+0100
TZOFFSETTO:+0000
TZNAME:GMT
DTSTART:20261025T010000
END:STANDARD
END:VTIMEZONE
BEGIN:VEVENT
DTSTART;TZID=Europe/London:20250628T120000
DTEND;TZID=Europe/London:20250628T180000
DTSTAMP:20260424T090745
CREATED:20250626T142058Z
LAST-MODIFIED:20250626T142325Z
UID:3661-1751112000-1751133600@www.wixams.org
SUMMARY:Wixams Summer Party
DESCRIPTION:The annual summer party in Wixams takes place on Saturday 28th June 2025. Please check the poster for details.
URL:https://www.wixams.org/event/summer-party-2025/
LOCATION:Lakeview Village Hall\, 155-160 Brooklands Avenue\, Wixams\, MK42 6AB\, United Kingdom
ATTACH;FMTTYPE=image/jpeg:https://www.wixams.org/wp-content/uploads/2025/06/20250628-Wixams-Summer-Party-Poster.jpg
ORGANIZER;CN="Wixams Events Group":MAILTO:wixamsevents@gmail.com
END:VEVENT
END:VCALENDAR