BEGIN:VCALENDAR
VERSION:2.0
PRODID:-//www.wixams.org - ECPv6.15.12//NONSGML v1.0//EN
CALSCALE:GREGORIAN
METHOD:PUBLISH
X-WR-CALNAME:www.wixams.org
X-ORIGINAL-URL:https://www.wixams.org
X-WR-CALDESC:Events for www.wixams.org
REFRESH-INTERVAL;VALUE=DURATION:PT1H
X-Robots-Tag:noindex
X-PUBLISHED-TTL:PT1H
BEGIN:VTIMEZONE
TZID:Europe/London
BEGIN:DAYLIGHT
TZOFFSETFROM:+0000
TZOFFSETTO:+0100
TZNAME:BST
DTSTART:20240331T010000
END:DAYLIGHT
BEGIN:STANDARD
TZOFFSETFROM:+0100
TZOFFSETTO:+0000
TZNAME:GMT
DTSTART:20241027T010000
END:STANDARD
BEGIN:DAYLIGHT
TZOFFSETFROM:+0000
TZOFFSETTO:+0100
TZNAME:BST
DTSTART:20250330T010000
END:DAYLIGHT
BEGIN:STANDARD
TZOFFSETFROM:+0100
TZOFFSETTO:+0000
TZNAME:GMT
DTSTART:20251026T010000
END:STANDARD
BEGIN:DAYLIGHT
TZOFFSETFROM:+0000
TZOFFSETTO:+0100
TZNAME:BST
DTSTART:20260329T010000
END:DAYLIGHT
BEGIN:STANDARD
TZOFFSETFROM:+0100
TZOFFSETTO:+0000
TZNAME:GMT
DTSTART:20261025T010000
END:STANDARD
END:VTIMEZONE
BEGIN:VEVENT
DTSTART;VALUE=DATE:20251003
DTEND;VALUE=DATE:20251006
DTSTAMP:20260424T024624
CREATED:20251003T094757Z
LAST-MODIFIED:20251003T094923Z
UID:3691-1759449600-1759708799@www.wixams.org
SUMMARY:Wixams Scarecrow Festival
DESCRIPTION:Wixams Parish Council\, in conjunction with Wixams Community Group\, are pleased to host our first Scarecrow Festival from 3-5 October 2025. Culminating in a prizegiving ceremony at Lakeview Village Hall on Sunday 5th October. \nYou can download a map for the festival here: \nWixams-Scarecrow-Festival-Trail-Map.pdf
URL:https://www.wixams.org/event/wixams-scarecrow-festival/
ATTACH;FMTTYPE=image/jpeg:https://www.wixams.org/wp-content/uploads/2025/09/202510-Scarecrow-Festival-Banner.jpeg
END:VEVENT
END:VCALENDAR