BEGIN:VCALENDAR
VERSION:2.0
PRODID:-//www.wixams.org - ECPv6.15.12//NONSGML v1.0//EN
CALSCALE:GREGORIAN
METHOD:PUBLISH
X-ORIGINAL-URL:https://www.wixams.org
X-WR-CALDESC:Events for www.wixams.org
REFRESH-INTERVAL;VALUE=DURATION:PT1H
X-Robots-Tag:noindex
X-PUBLISHED-TTL:PT1H
BEGIN:VTIMEZONE
TZID:Europe/London
BEGIN:DAYLIGHT
TZOFFSETFROM:+0000
TZOFFSETTO:+0100
TZNAME:BST
DTSTART:20250330T010000
END:DAYLIGHT
BEGIN:STANDARD
TZOFFSETFROM:+0100
TZOFFSETTO:+0000
TZNAME:GMT
DTSTART:20251026T010000
END:STANDARD
BEGIN:DAYLIGHT
TZOFFSETFROM:+0000
TZOFFSETTO:+0100
TZNAME:BST
DTSTART:20260329T010000
END:DAYLIGHT
BEGIN:STANDARD
TZOFFSETFROM:+0100
TZOFFSETTO:+0000
TZNAME:GMT
DTSTART:20261025T010000
END:STANDARD
BEGIN:DAYLIGHT
TZOFFSETFROM:+0000
TZOFFSETTO:+0100
TZNAME:BST
DTSTART:20270328T010000
END:DAYLIGHT
BEGIN:STANDARD
TZOFFSETFROM:+0100
TZOFFSETTO:+0000
TZNAME:GMT
DTSTART:20271031T010000
END:STANDARD
END:VTIMEZONE
BEGIN:VEVENT
DTSTART;TZID=Europe/London:20260317T190000
DTEND;TZID=Europe/London:20260317T210000
DTSTAMP:20260423T095407
CREATED:20251121T141445Z
LAST-MODIFIED:20260313T131848Z
UID:3711-1773774000-1773781200@www.wixams.org
SUMMARY:Wixams Town Council Meeting - March
DESCRIPTION:The Town Council welcomes residents to attend any of their public meetings held\, details of these can be found on the Wixams Town Council site. \nAgendas for each meeting will be available approximately one week before each meeting.
URL:https://www.wixams.org/event/wtc-meeting-mar-26/
LOCATION:Lakeview Village Hall\, 155-160 Brooklands Avenue\, Wixams\, MK42 6AB\, United Kingdom
ATTACH;FMTTYPE=image/png:https://www.wixams.org/wp-content/uploads/2025/11/Wixams-Town-Council.png
ORGANIZER;CN="Wixams Town Council":MAILTO:clerk@wixams-pc.gov.uk
END:VEVENT
BEGIN:VEVENT
DTSTART;TZID=Europe/London:20260323T110000
DTEND;TZID=Europe/London:20260323T120000
DTSTAMP:20260423T095407
CREATED:20260224T142358Z
LAST-MODIFIED:20260224T142555Z
UID:3758-1774263600-1774267200@www.wixams.org
SUMMARY:Coffee With a Cop
DESCRIPTION:Your local community officers will be at the Seasons Garden Centre Café in Wixams on 23/03/2026 from 11:00 am to 12:00 pm. \nPlease take this opportunity to come and talk to us and raise any concerns you may have. \nEveryone is welcome and it would be great to see you there. For more information\, please contact the North Rural Team at CommunityPolicingNorth@bch.police.uk.
URL:https://www.wixams.org/event/coffee-with-cop-mar-26/
LOCATION:Seasons Garden Centre\, Bedford Road\, Wixams\, MK45 3HU\, United Kingdom
ATTACH;FMTTYPE=image/jpeg:https://www.wixams.org/wp-content/uploads/2024/09/Bedfordshire-Police-Logo.jpg
ORGANIZER;CN="Bedfordshire North Rural Policing Team":MAILTO:CommunityPolicingNorth@bch.police.uk
END:VEVENT
BEGIN:VEVENT
DTSTART;TZID=Europe/London:20260329T120000
DTEND;TZID=Europe/London:20260329T130000
DTSTAMP:20260423T095407
CREATED:20260324T163632Z
LAST-MODIFIED:20260324T163632Z
UID:3779-1774785600-1774789200@www.wixams.org
SUMMARY:Easter Bunny Trail
DESCRIPTION:WIXAMS… IT’S ALMOST TIME TO HOP! \n\n\n\nIn less than a week\, our Easter Bunny Trail is taking over the village.\n\n\n\n Knitted bunnies will be hiding in locations all around Wixams\nReady and waiting to be spotted…\n\n\nThe question is.\nWho’s going to be hopping along and finding them all? \n\n\n\n Sunday 29th March\n 12PM\n Start: Lakeview Village Hall\n £1 per child\n\n\n\nCollect your trail sheet\, follow the clues\, count the bunnies\, and make your way back to the Village Hall to collect your:\n Easter treat\n Certificate\n\n\n Are YOU a Bunny Spotter?
URL:https://www.wixams.org/event/easter-trail-2026/
LOCATION:Lakeview Village Hall\, 155-160 Brooklands Avenue\, Wixams\, MK42 6AB\, United Kingdom
ATTACH;FMTTYPE=image/jpeg:https://www.wixams.org/wp-content/uploads/2026/03/20260329-Easter-Bunny-Trail-Poster.jpg
ORGANIZER;CN="Wixams Events Group":MAILTO:wixamsevents@gmail.com
END:VEVENT
END:VCALENDAR