BEGIN:VCALENDAR
VERSION:2.0
PRODID:-//www.wixams.org - ECPv6.15.12//NONSGML v1.0//EN
CALSCALE:GREGORIAN
METHOD:PUBLISH
X-WR-CALNAME:www.wixams.org
X-ORIGINAL-URL:https://www.wixams.org
X-WR-CALDESC:Events for www.wixams.org
REFRESH-INTERVAL;VALUE=DURATION:PT1H
X-Robots-Tag:noindex
X-PUBLISHED-TTL:PT1H
BEGIN:VTIMEZONE
TZID:Europe/London
BEGIN:DAYLIGHT
TZOFFSETFROM:+0000
TZOFFSETTO:+0100
TZNAME:BST
DTSTART:20250330T010000
END:DAYLIGHT
BEGIN:STANDARD
TZOFFSETFROM:+0100
TZOFFSETTO:+0000
TZNAME:GMT
DTSTART:20251026T010000
END:STANDARD
BEGIN:DAYLIGHT
TZOFFSETFROM:+0000
TZOFFSETTO:+0100
TZNAME:BST
DTSTART:20260329T010000
END:DAYLIGHT
BEGIN:STANDARD
TZOFFSETFROM:+0100
TZOFFSETTO:+0000
TZNAME:GMT
DTSTART:20261025T010000
END:STANDARD
BEGIN:DAYLIGHT
TZOFFSETFROM:+0000
TZOFFSETTO:+0100
TZNAME:BST
DTSTART:20270328T010000
END:DAYLIGHT
BEGIN:STANDARD
TZOFFSETFROM:+0100
TZOFFSETTO:+0000
TZNAME:GMT
DTSTART:20271031T010000
END:STANDARD
END:VTIMEZONE
BEGIN:VEVENT
DTSTART;VALUE=DATE:20260627
DTEND;VALUE=DATE:20260628
DTSTAMP:20260423T134858
CREATED:20260324T164022Z
LAST-MODIFIED:20260324T164022Z
UID:3782-1782518400-1782604799@www.wixams.org
SUMMARY:Wixams Summer Party
DESCRIPTION:The Wixams Summer Party will take place on Saturday 27th June 2026. More details to follow. Please visit the Wixams Events Group website and join their mailing list to stay up to date with their events: \nwixams.events
URL:https://www.wixams.org/event/wixams-summer-party-2/
LOCATION:Lakeview Village Hall\, 155-160 Brooklands Avenue\, Wixams\, MK42 6AB\, United Kingdom
ATTACH;FMTTYPE=image/jpeg:https://www.wixams.org/wp-content/uploads/2026/03/20260627-Wixams-Summer-Party-2026-Poster.jpg
ORGANIZER;CN="Wixams Events Group":MAILTO:wixamsevents@gmail.com
END:VEVENT
END:VCALENDAR